Workbook

Sheet часовой бег женщины группа
D3: ИТОГОВЫЙ ПРОТОКОЛ
A5: место | B5: место в возрастной группе | C5: стартовый номер | D5: Фамилия, имя | E5: команда | F5: год рождения | H5: возраст | I5: группа | J5: метраж
A6: до 18 лет (1996 г.р. и моложе)
A7: 6 | B7: 1 | C7: 133 | D7: Ареховская Вероника | E7: Октябрьский | F7: 1997 | G7: 2013 | H7: =G7-F7 -> 16 | I7: =IF(F7="","",VLOOKUP(F7,Лист2!$D$2:$E$67,2,TRUE)) -> до18 | J7: 13050
A8: 9 | B8: 2 | C8: 149 | D8: Лисовская Наталья | E8: Щучинский | F8: 1996 | G8: 2013 | H8: =G8-F8 -> 17 | I8: =IF(F8="","",VLOOKUP(F8,Лист2!$D$2:$E$67,2,TRUE)) -> до18 | J8: 12590
A9: 18-39 лет (1995- 1974 гг.р.)
A10: 4 | B10: 1 | C10: 804 | D10: Якшевич Инна | E10: Лида | F10: 1993 | G10: 2013 | H10: =G10-F10 -> 20 | I10: =IF(F10="","",VLOOKUP(F10,Лист2!$D$2:$E$67,2,TRUE)) -> 18-39 | J10: 14030
A11: 5 | B11: 2 | C11: 129 | D11: Пискунова Мария | E11: Мостовский | F11: 1993 | G11: 2013 | H11: =G11-F11 -> 20 | I11: =IF(F11="","",VLOOKUP(F11,Лист2!$D$2:$E$67,2,TRUE)) -> 18-39 | J11: 13270
A12: 8 | B12: 3 | C12: 222 | D12: Панкратович Алла | E12: Минск"Олимп" | F12: 1978 | G12: 2013 | H12: =G12-F12 -> 35 | I12: =IF(F12="","",VLOOKUP(F12,Лист2!$D$2:$E$67,2,TRUE)) -> 18-39 | J12: 12650
A13: 10 | B13: 4 | C13: 897 | D13: Куколович Наталья | E13: Октябрьский | F13: 1978 | G13: 2013 | H13: =G13-F13 -> 35 | I13: =IF(F13="","",VLOOKUP(F13,Лист2!$D$2:$E$67,2,TRUE)) -> 18-39 | J13: 12400
A14: 12 | B14: 5 | C14: 8 | D14: Обидиентова Алеся | E14: М.Горка"Звезда" | F14: 1987 | G14: 2013 | H14: =G14-F14 -> 26 | I14: =IF(F14="","",VLOOKUP(F14,Лист2!$D$2:$E$67,2,TRUE)) -> 18-39 | J14: 10200
A15: 40-49 лет (1973-1964 гг.р.)
A16: 7 | B16: 1 | C16: 631 | D16: Андрейчик Наталья | E16: Гродно | F16: 1973 | G16: 2013 | H16: =G16-F16 -> 40 | I16: =IF(F16="","",VLOOKUP(F16,Лист2!$D$2:$E$67,2,TRUE)) -> 40-49 | J16: 12960
A17: 11 | B17: 2 | C17: 641 | D17: Морозова Наталия | E17: Октябрьский | F17: 1967 | G17: 2013 | H17: =G17-F17 -> 46 | I17: =IF(F17="","",VLOOKUP(F17,Лист2!$D$2:$E$67,2,TRUE)) -> 40-49 | J17: 10350

Sheet команда
A3: ИТОГ
A4: командного зачета в часовом беге
A6: команда | B6: Фамилия, имя | C6: результат | E6: сумма | F6: место
B7: Панкратович Андрей | C7: 14950 | D7: 2012
A8: Ленинский | B8: Каранкевич Андрей | C8: 14160 | D8: 2012 | E8: =SUM(C7,C8,C9) -> 44830 | F8: =RANK(E8,$E$8:$E$27) -> 2
B9: Карнацевич Галина | C9: 15720 | D9: 2012
B10: Лянга Александр | C10: 14930 | D10: 2012
A11: Лидский | B11: Шмарловский Олег | C11: 14400 | D11: 2012 | E11: =SUM(C10,C11,C12) -> 43330 | F11: =RANK(E11,$E$8:$E$27) -> 4
B12: Якшевич Инна | C12: 14000 | D12: 2012
B13: Пешко Олег | C13: 12530 | D13: 2012
A14: Мостовский | B14: Лисай Иосиф | C14: 9350 | D14: 2012 | E14: =SUM(C13,C14,C15) -> 35150 | F14: =RANK(E14,$E$8:$E$27) -> 6
B15: Пискунова Мария | C15: 13270 | D15: 2012
B16: Валяк Денис | C16: 15610 | D16: 2012
A17: Октябрьский | B17: Чечко павел | C17: 14800 | D17: 2012 | E17: =SUM(C16,C17,C18) -> 43460 | F17: =RANK(E17,$E$8:$E$27) -> 3
B18: Ареховская Вероника | C18: 13050 | D18: 2012
B19: Санько Александр | C19: 17615 | D19: 2012
A20: Олимп | B20: Малофеев Филипп | C20: 16850 | D20: 2012 | E20: =SUM(C19,C20,C21) -> 47115 | F20: =RANK(E20,$E$8:$E$27) -> 1
B21: Панкратович Алла | C21: 12650 | D21: 2012
B22: Обидиентов Александр | C22: 13210 | D22: 2012
A23: Звезда | B23: Обидиентов Сергей | C23: 11450 | D23: 2012 | E23: =SUM(C22,C23,C24) -> 34860 | F23: =RANK(E23,$E$8:$E$27) -> 7
B24: Обидиентова Алеся | C24: 10200 | D24: 2012
B25: Змитрукевич Дмитрий | C25: 16800 | D25: 2012
A26: Щучинский | B26: Окромешко Антон | C26: 13700 | D26: 2012 | E26: =SUM(C25,C26,C27) -> 43090 | F26: =RANK(E26,$E$8:$E$27) -> 5
B27: Лисовская Наталья | C27: 12590 | D27: 2012

Sheet часовой бег мужчины группа
D3: ИТОГОВЫЙ ПРОТОКОЛ
A5: место | B5: место в возрастной группе | C5: стартовый номер | D5: Фамилия, имя | E5: команда | F5: год рождения | H5: возраст | I5: группа | J5: результат
A6: до 18 лет (1996 г.р. И моложе)
A7: 18 | B7: 1 | C7: 221 | D7: Каленик Сергей | E7: Гродненский | F7: 1996 | G7: 2013 | H7: =G7-F7 -> 17 | I7: =IF(F7="","",VLOOKUP(F7,Лист2!$A$2:$B$67,2,TRUE)) -> до18 | J7: 14650
A8: 36 | B8: 2 | C8: 127 | D8: Кемежук Николай | E8: Гродненский | F8: 1996 | G8: 2013 | H8: =G8-F8 -> 17 | I8: =IF(F8="","",VLOOKUP(F8,Лист2!$A$2:$B$67,2,TRUE)) -> до18 | J8: 13050
A9: 39 | B9: 3 | C9: 15 | D9: Чопчиц Кирилл | E9: М.Горка"Звезда" | F9: 1997 | G9: 2013 | H9: =G9-F9 -> 16 | I9: =IF(F9="","",VLOOKUP(F9,Лист2!$A$2:$B$67,2,TRUE)) -> до18 | J9: 12570
A10: 40 | B10: 4 | C10: 806 | D10: Пешко Олег | E10: Мостовский | F10: 1997 | G10: 2013 | H10: =G10-F10 -> 16 | I10: =IF(F10="","",VLOOKUP(F10,Лист2!$A$2:$B$67,2,TRUE)) -> до18 | J10: 12530
A11: 41 | B11: 5 | C11: 145 | D11: Винчо Алексей | E11: Щучинский | F11: 1996 | G11: 2013 | H11: =G11-F11 -> 17 | I11: =IF(F11="","",VLOOKUP(F11,Лист2!$A$2:$B$67,2,TRUE)) -> до18 | J11: 12300
A12: 18-39 лет (1995-1974 гг.р.)
A13: 4 | B13: 1 | C13: 635 | D13: Змитрукевич Дмитрий | E13: Щучинский | F13: 1992 | G13: 2013 | H13: =G13-F13 -> 21 | I13: =IF(F13="","",VLOOKUP(F13,Лист2!$A$2:$B$67,2,TRUE)) -> 18-39 | J13: 16800
A14: 5 | B14: 2 | C14: 371 | D14: Севрюков Денис | E14: Брест | F14: 1990 | G14: 2013 | H14: =G14-F14 -> 23 | I14: =IF(F14="","",VLOOKUP(F14,Лист2!$A$2:$B$67,2,TRUE)) -> 18-39 | J14: 16560
A15: 6 | B15: 3 | C15: 227 | D15: Янушев Олег | E15: "Олимп"Минск | F15: 1987 | G15: 2013 | H15: =G15-F15 -> 26 | I15: =IF(F15="","",VLOOKUP(F15,Лист2!$A$2:$B$67,2,TRUE)) -> 18-39 | J15: 16180
A16: 7 | B16: 4 | C16: 150 | D16: Страшкевич Руслан | E16: Сморгонский | F16: 1988 | G16: 2013 | H16: =G16-F16 -> 25 | I16: =IF(F16="","",VLOOKUP(F16,Лист2!$A$2:$B$67,2,TRUE)) -> 18-39 | J16: 16005
A17: 10 | B17: 5 | C17: 130 | D17: Леонов Иван | E17: Гродненский | F17: 1986 | G17: 2013 | H17: =G17-F17 -> 27 | I17: =IF(F17="","",VLOOKUP(F17,Лист2!$A$2:$B$67,2,TRUE)) -> 18-39 | J17: 15510
A18: 11 | B18: 6 | C18: 802 | D18: Валяк Денис | E18: Октябрьский | F18: 1993 | G18: 2013 | H18: =G18-F18 -> 20 | I18: =IF(F18="","",VLOOKUP(F18,Лист2!$A$2:$B$67,2,TRUE)) -> 18-39 | J18: 15510
A19: 12 | B19: 7 | C19: 20 | D19: Пилютик Денис | E19: Брест | F19: 1989 | G19: 2013 | H19: =G19-F19 -> 24 | I19: =IF(F19="","",VLOOKUP(F19,Лист2!$A$2:$B$67,2,TRUE)) -> 18-39 | J19: 15215
A20: 15 | B20: 8 | C20: 8 | D20: Лянга Александр | E20: Лида | F20: 1989 | G20: 2013 | H20: =G20-F20 -> 24 | I20: =IF(F20="","",VLOOKUP(F20,Лист2!$A$2:$B$67,2,TRUE)) -> 18-39 | J20: 14930
A21: 16 | B21: 9 | C21: 139 | D21: Рачко Дмитрий | E21: Гродно"ВФГрГУ | F21: 1994 | G21: 2013 | H21: =G21-F21 -> 19 | I21: =IF(F21="","",VLOOKUP(F21,Лист2!$A$2:$B$67,2,TRUE)) -> 18-39 | J21: 14800
A22: 17 | B22: 10 | C22: 803 | D22: Чечко Павел | E22: Октябрьский | F22: 1990 | G22: 2013 | H22: =G22-F22 -> 23 | I22: =IF(F22="","",VLOOKUP(F22,Лист2!$A$2:$B$67,2,TRUE)) -> 18-39 | J22: 14800
A23: 20 | B23: 11 | C23: 369 | D23: Шмарловский Олег | E23: Лида | F23: 1983 | G23: 2013 | H23: =G23-F23 -> 30 | I23: =IF(F23="","",VLOOKUP(F23,Лист2!$A$2:$B$67,2,TRUE)) -> 18-39 | J23: 14400
A24: 22 | B24: 12 | C24: 138 | D24: Климец Марк | E24: Гродно"ВФГрГУ | F24: 1994 | G24: 2013 | H24: =G24-F24 -> 19 | I24: =IF(F24="","",VLOOKUP(F24,Лист2!$A$2:$B$67,2,TRUE)) -> 18-39 | J24: 14300
... A28: 29 | B28: 16 | C28: 637 | D28: Окромешко Антон | E28: Щучинский | F28: 1990 | G28: 2013 | H28: =G28-F28 -> 23 | I28: =IF(F28="","",VLOOKUP(F28,Лист2!$A$2:$B$67,2,TRUE)) -> 18-39 | J28: 13700
A29: 31 | C29: 229 | D29: Зданович Евгений | E29: Гродно | F29: 1989 | G29: 2013 | H29: =G29-F29 -> 24 | I29: =IF(F29="","",VLOOKUP(F29,Лист2!$A$2:$B$67,2,TRUE)) -> 18-39 | J29: н/я
A30: 31 | B30: 17 | C30: 632 | D30: Кулеш Павел | E30: Гродненский | F30: 1986 | G30: 2013 | H30: =G30-F30 -> 27 | I30: =IF(F30="","",VLOOKUP(F30,Лист2!$A$2:$B$67,2,TRUE)) -> 18-39 | J30: 13490
A31: 32 | B31: 18 | C31: 140 | D31: Рачко Илья | E31: Гродно"ВФГрГУ | F31: 1994 | G31: 2013 | H31: =G31-F31 -> 19 | I31: =IF(F31="","",VLOOKUP(F31,Лист2!$A$2:$B$67,2,TRUE)) -> 18-39 | J31: 13270
A32: 33 | B32: 19 | C32: 143 | D32: Обидиентов Александр | E32: М.Горка"Звезда" | F32: 1977 | G32: 2013 | H32: =G32-F32 -> 36 | I32: =IF(F32="","",VLOOKUP(F32,Лист2!$A$2:$B$67,2,TRUE)) -> 18-39 | J32: 13210
A33: 35 | B33: 20 | C33: 141 | D33: Стошенко Стас | E33: Гродно"ВФГрГУ | F33: 1994 | G33: 2013 | H33: =G33-F33 -> 19 | I33: =IF(F33="","",VLOOKUP(F33,Лист2!$A$2:$B$67,2,TRUE)) -> 18-39 | J33: 13050
A34: 38 | B34: 21 | C34: 146 | D34: Дмитриев Арсений | E34: Гродненский | F34: 1994 | G34: 2013 | H34: =G34-F34 -> 19 | I34: =IF(F34="","",VLOOKUP(F34,Лист2!$A$2:$B$67,2,TRUE)) -> 18-39 | J34: 12740
A35: 43 | B35: 22 | C35: 134 | D35: Скрипко Александр | E35: Малорита"Маладосць" | F35: 1982 | G35: 2013 | H35: =G35-F35 -> 31 | I35: =IF(F35="","",VLOOKUP(F35,Лист2!$A$2:$B$67,2,TRUE)) -> 18-39 | J35: 11940
A36: 45 | B36: 23 | C36: 639 | D36: Анискевич Валерий | E36: Октябрьский | F36: 1975 | G36: 2013 | H36: =G36-F36 -> 38 | I36: =IF(F36="","",VLOOKUP(F36,Лист2!$A$2:$B$67,2,TRUE)) -> 18-39 | J36: 11480
A37: 40-49 лет (1973-1964 гг.Р.)
A38: 8 | B38: 1 | C38: 5 | D38: Чирица Владимир | E38: Сморгонский | F38: 1969 | G38: 2013 | H38: =G38-F38 -> 44 | I38: =IF(F38="","",VLOOKUP(F38,Лист2!$A$2:$B$67,2,TRUE)) -> 40-49 | J38: 15740
A39: 14 | B39: 2 | C39: 233 | D39: Панцевич Андрей | E39: Ленинский | F39: 1966 | G39: 2013 | H39: =G39-F39 -> 47 | I39: =IF(F39="","",VLOOKUP(F39,Лист2!$A$2:$B$67,2,TRUE)) -> 40-49 | J39: 14950
A40: 23 | B40: 3 | C40: 231 | D40: Каранкевич Андрей | E40: Ленинский | F40: 1969 | G40: 2013 | H40: =G40-F40 -> 44 | I40: =IF(F40="","",VLOOKUP(F40,Лист2!$A$2:$B$67,2,TRUE)) -> 40-49 | J40: 14160
A41: 24 | B41: 4 | C41: 530 | D41: Андрейчик Олег | E41: Гродно | F41: 1973 | G41: 2013 | H41: =G41-F41 -> 40 | I41: =IF(F41="","",VLOOKUP(F41,Лист2!$A$2:$B$67,2,TRUE)) -> 40-49 | J41: 14120
A42: 26 | B42: 5 | C42: 137 | D42: Лысенко Павел | E42: Малорита"Маладосць" | F42: 1966 | G42: 2013 | H42: =G42-F42 -> 47 | I42: =IF(F42="","",VLOOKUP(F42,Лист2!$A$2:$B$67,2,TRUE)) -> 40-49 | J42: 14000
A43: 34 | B43: 6 | C43: 634 | D43: Лисовский Виктор | E43: Щучинский | F43: 1964 | G43: 2013 | H43: =G43-F43 -> 49 | I43: =IF(F43="","",VLOOKUP(F43,Лист2!$A$2:$B$67,2,TRUE)) -> 40-49 | J43: 13180
A44: 50-59 лет (1963-1954 гг.р.)
A45: 9 | B45: 1 | C45: 19 | D45: Юдицкий Петр | E45: Слоним | F45: 1959 | G45: 2013 | H45: =G45-F45 -> 54 | I45: =IF(F45="","",VLOOKUP(F45,Лист2!$A$2:$B$67,2,TRUE)) -> 50-59 | J45: 15720
A46: 19 | B46: 2 | C46: 132 | D46: Лисовский Михаил | E46: Октябрьский | F46: 1960 | G46: 2013 | H46: =G46-F46 -> 53 | I46: =IF(F46="","",VLOOKUP(F46,Лист2!$A$2:$B$67,2,TRUE)) -> 50-59 | J46: 14470
...

Sheet часовой бег женщины (абсолют)
D3: ИТОГОВЫЙ ПРОТОКОЛ
A5: место | B5: место в возрастной группе | C5: стартовый номер | D5: Фамилия, имя | E5: команда | F5: год рождения | H5: возраст | I5: группа | J5: метраж
A6: 1 | C6: 638 | D6: Карнацевич Галина | E6: Лениниский | F6: 1969 | G6: 2013 | H6: =G6-F6 -> 44 | I6: =IF(F6="","",VLOOKUP(F6,Лист2!$D$2:$E$67,2,TRUE)) -> 40-49 | J6: 15720
A7: 2 | C7: 136 | D7: Сомова Ирина | E7: Лениниский | F7: 1990 | G7: 2013 | H7: =G7-F7 -> 23 | I7: =IF(F7="","",VLOOKUP(F7,Лист2!$D$2:$E$67,2,TRUE)) -> 18-39 | J7: 15450
A8: 3 | C8: 135 | D8: Король Юлия | E8: Ленинский | F8: 1991 | G8: 2013 | H8: =G8-F8 -> 22 | I8: =IF(F8="","",VLOOKUP(F8,Лист2!$D$2:$E$67,2,TRUE)) -> 18-39 | J8: 14300
A9: 4 | B9: 1 | C9: 804 | D9: Якшевич Инна | E9: Лида | F9: 1993 | G9: 2013 | H9: =G9-F9 -> 20 | I9: =IF(F9="","",VLOOKUP(F9,Лист2!$D$2:$E$67,2,TRUE)) -> 18-39 | J9: 14030
A10: 5 | B10: 2 | C10: 129 | D10: Пискунова Мария | E10: Мостовский | F10: 1993 | G10: 2013 | H10: =G10-F10 -> 20 | I10: =IF(F10="","",VLOOKUP(F10,Лист2!$D$2:$E$67,2,TRUE)) -> 18-39 | J10: 13270
A11: 6 | B11: 1 | C11: 133 | D11: Ареховская Вероника | E11: Октябрьский | F11: 1997 | G11: 2013 | H11: =G11-F11 -> 16 | I11: =IF(F11="","",VLOOKUP(F11,Лист2!$D$2:$E$67,2,TRUE)) -> до18 | J11: 13050
A12: 7 | B12: 1 | C12: 631 | D12: Андрейчик Наталья | E12: Гродно | F12: 1973 | G12: 2013 | H12: =G12-F12 -> 40 | I12: =IF(F12="","",VLOOKUP(F12,Лист2!$D$2:$E$67,2,TRUE)) -> 40-49 | J12: 12960
A13: 8 | B13: 3 | C13: 222 | D13: Панкратович Алла | E13: Минск"Олимп" | F13: 1978 | G13: 2013 | H13: =G13-F13 -> 35 | I13: =IF(F13="","",VLOOKUP(F13,Лист2!$D$2:$E$67,2,TRUE)) -> 18-39 | J13: 12650
A14: 9 | B14: 2 | C14: 149 | D14: Лисовская Наталья | E14: Щучинский | F14: 1996 | G14: 2013 | H14: =G14-F14 -> 17 | I14: =IF(F14="","",VLOOKUP(F14,Лист2!$D$2:$E$67,2,TRUE)) -> до18 | J14: 12590
A15: 10 | B15: 4 | C15: 897 | D15: Куколович Наталья | E15: Октябрьский | F15: 1978 | G15: 2013 | H15: =G15-F15 -> 35 | I15: =IF(F15="","",VLOOKUP(F15,Лист2!$D$2:$E$67,2,TRUE)) -> 18-39 | J15: 12400
A16: 11 | B16: 2 | C16: 641 | D16: Морозова Наталия | E16: Октябрьский | F16: 1967 | G16: 2013 | H16: =G16-F16 -> 46 | I16: =IF(F16="","",VLOOKUP(F16,Лист2!$D$2:$E$67,2,TRUE)) -> 40-49 | J16: 10350
A17: 12 | B17: 5 | C17: 8 | D17: Обидиентова Алеся | E17: М.Горка"Звезда" | F17: 1987 | G17: 2013 | H17: =G17-F17 -> 26 | I17: =IF(F17="","",VLOOKUP(F17,Лист2!$D$2:$E$67,2,TRUE)) -> 18-39 | J17: 10200

Sheet часовой бег мужчины (абсолют)
D3: ИТОГОВЫЙ ПРОТОКОЛ
A5: место | B5: место в возрастной группе | C5: стартовый номер | D5: Фамилия, имя | E5: команда | F5: год рождения | H5: возраст | I5: группа | J5: результат
A6: 1 | C6: 131 | D6: Машей Павел | E6: Гродненский | F6: 1979 | G6: 2013 | H6: =G6-F6 -> 34 | I6: =IF(F6="","",VLOOKUP(F6,Лист2!$A$2:$B$67,2,TRUE)) -> 18-39 | J6: 18560
A7: 2 | C7: 226 | D7: Санько Александр | E7: "Олимп" Слонимский | F7: 1989 | G7: 2013 | H7: =G7-F7 -> 24 | I7: =IF(F7="","",VLOOKUP(F7,Лист2!$A$2:$B$67,2,TRUE)) -> 18-39 | J7: 17615
A8: 3 | C8: 228 | D8: Малофеев Филип | E8: "Олимп"Слонимский | F8: 1991 | G8: 2013 | H8: =G8-F8 -> 22 | I8: =IF(F8="","",VLOOKUP(F8,Лист2!$A$2:$B$67,2,TRUE)) -> 18-39 | J8: 16850
A9: 4 | B9: 1 | C9: 635 | D9: Змитрукевич Дмитрий | E9: Щучинский | F9: 1992 | G9: 2013 | H9: =G9-F9 -> 21 | I9: =IF(F9="","",VLOOKUP(F9,Лист2!$A$2:$B$67,2,TRUE)) -> 18-39 | J9: 16800
A10: 5 | B10: 2 | C10: 371 | D10: Севрюков Денис | E10: Брест | F10: 1990 | G10: 2013 | H10: =G10-F10 -> 23 | I10: =IF(F10="","",VLOOKUP(F10,Лист2!$A$2:$B$67,2,TRUE)) -> 18-39 | J10: 16560
A11: 6 | B11: 3 | C11: 227 | D11: Янушев Олег | E11: "Олимп"Минск | F11: 1987 | G11: 2013 | H11: =G11-F11 -> 26 | I11: =IF(F11="","",VLOOKUP(F11,Лист2!$A$2:$B$67,2,TRUE)) -> 18-39 | J11: 16180
A12: 7 | B12: 4 | C12: 150 | D12: Страшкевич Руслан | E12: Сморгонский | F12: 1988 | G12: 2013 | H12: =G12-F12 -> 25 | I12: =IF(F12="","",VLOOKUP(F12,Лист2!$A$2:$B$67,2,TRUE)) -> 18-39 | J12: 16005
A13: 8 | B13: 1 | C13: 5 | D13: Чирица Владимир | E13: Сморгонский | F13: 1969 | G13: 2013 | H13: =G13-F13 -> 44 | I13: =IF(F13="","",VLOOKUP(F13,Лист2!$A$2:$B$67,2,TRUE)) -> 40-49 | J13: 15740
A14: 9 | B14: 1 | C14: 19 | D14: Юдицкий Петр | E14: Слоним | F14: 1959 | G14: 2013 | H14: =G14-F14 -> 54 | I14: =IF(F14="","",VLOOKUP(F14,Лист2!$A$2:$B$67,2,TRUE)) -> 50-59 | J14: 15720
A15: 10 | B15: 5 | C15: 130 | D15: Леонов Иван | E15: Гродненский | F15: 1986 | G15: 2013 | H15: =G15-F15 -> 27 | I15: =IF(F15="","",VLOOKUP(F15,Лист2!$A$2:$B$67,2,TRUE)) -> 18-39 | J15: 15510
A16: 11 | B16: 6 | C16: 802 | D16: Валяк Денис | E16: Октябрьский | F16: 1993 | G16: 2013 | H16: =G16-F16 -> 20 | I16: =IF(F16="","",VLOOKUP(F16,Лист2!$A$2:$B$67,2,TRUE)) -> 18-39 | J16: 15510
A17: 12 | B17: 7 | C17: 20 | D17: Пилютик Денис | E17: Брест | F17: 1989 | G17: 2013 | H17: =G17-F17 -> 24 | I17: =IF(F17="","",VLOOKUP(F17,Лист2!$A$2:$B$67,2,TRUE)) -> 18-39 | J17: 15215
A18: 13 | B18: 1 | C18: 17 | D18: Мартемьянов Борис | E18: Минск | F18: 1951 | G18: 2013 | H18: =G18-F18 -> 62 | I18: =IF(F18="","",VLOOKUP(F18,Лист2!$A$2:$B$67,2,TRUE)) -> 60-69 | J18: 15050
A19: 14 | B19: 2 | C19: 233 | D19: Панцевич Андрей | E19: Ленинский | F19: 1966 | G19: 2013 | H19: =G19-F19 -> 47 | I19: =IF(F19="","",VLOOKUP(F19,Лист2!$A$2:$B$67,2,TRUE)) -> 40-49 | J19: 14950
A20: 15 | B20: 8 | C20: 8 | D20: Лянга Александр | E20: Лида | F20: 1989 | G20: 2013 | H20: =G20-F20 -> 24 | I20: =IF(F20="","",VLOOKUP(F20,Лист2!$A$2:$B$67,2,TRUE)) -> 18-39 | J20: 14930
... A52: 47 | B52: 6 | C52: 148 | D52: Малей Владимир | E52: Малорита"Маладосць" | F52: 1951 | G52: 2013 | H52: =G52-F52 -> 62 | I52: =IF(F52="","",VLOOKUP(F52,Лист2!$A$2:$B$67,2,TRUE)) -> 60-69 | J52: 11270
A53: 48 | B53: 1 | C53: 18 | D53: Колодко Леонид | E53: Жодино | F53: 1934 | G53: 2013 | H53: =G53-F53 -> 79 | I53: 70ст | J53: 11000
A54: 49 | B54: 2 | C54: 225 | D54: Воронцов Вячеслав | E54: Жодино"Бодрость" | F54: 1939 | G54: 2013 | H54: =G54-F54 -> 74 | I54: =IF(F54="","",VLOOKUP(F54,Лист2!$A$2:$B$67,2,TRUE)) -> 70ст | J54: 9550
A55: 50 | B55: 7 | C55: 808 | D55: Лисай Иосиф | E55: Мостовский | F55: 1948 | G55: 2013 | H55: =G55-F55 -> 65 | I55: =IF(F55="","",VLOOKUP(F55,Лист2!$A$2:$B$67,2,TRUE)) -> 60-69 | J55: 9350
A56: 51 | B56: 3 | C56: 224 | D56: Слуцкер Арнольд | E56: Жодино"Бодрость" | F56: 1937 | G56: 2013 | H56: =G56-F56 -> 76 | I56: 70ст | J56: 8550
C57: 229 | D57: Зданович Евгений | E57: Гродно | F57: 1989 | G57: 2013 | H57: =G57-F57 -> 24 | I57: =IF(F57="","",VLOOKUP(F57,Лист2!$A$2:$B$67,2,TRUE)) -> 18-39 | J57: н/я

Sheet тест Купера девушки
B3: 16-17 лет | C3: ИТОГОВЫЙ ПРОТОКОЛ
A5: место | B5: стартовый номер | C5: Фамилия, имя | D5: команда | E5: год рождения | G5: возраст | H5: группа | I5: Результат
A6: 1 | B6: 18 | C6: Баламут Ольга | D6: Октябрьский | E6: 1997 | F6: 2013 | G6: =F6-E6 -> 16 | H6: =IF(E6="","",VLOOKUP(E6,Лист2!$G$2:$H$67,2,TRUE)) -> 16-17 | I6: 2510
G7: =F7-E7 -> 0 | H7: =IF(E7="","",VLOOKUP(E7,Лист2!$G$2:$H$67,2,TRUE))

Sheet тест Купера юноши
C3: ИТОГОВЫЙ ПРОТОКОЛ
A5: место | B5: стартовый номер | C5: Фамилия, имя | D5: команда | E5: год рождения | G5: возраст | H5: группа | I5: результат
D6: до 16 лет | E6: (1998 г.р. и моложе)
A7: 1 | B7: 646 | C7: Звержевич Марк | D7: Октябрьский | E7: 1999 | F7: 2013 | G7: =F7-E7 -> 14 | H7: =IF(E7="","",VLOOKUP(E7,Лист2!$G$2:$H$67,2,TRUE)) -> до16 | I7: 3080
A8: 2 | B8: 642 | C8: Бодак Александр | D8: Щучинский | E8: 1998 | F8: 2013 | G8: =F8-E8 -> 15 | H8: =IF(E8="","",VLOOKUP(E8,Лист2!$G$2:$H$67,2,TRUE)) -> до16 | I8: 2980
A9: 3 | B9: 17 | C9: Кейко Кирилл | D9: Октябрьский | E9: 2000 | F9: 2013 | G9: =F9-E9 -> 13 | H9: =IF(E9="","",VLOOKUP(E9,Лист2!$G$2:$H$67,2,TRUE)) -> до16 | I9: 2850
A10: 4 | B10: 649 | C10: Хуторной Егор | D10: Октябрьский | E10: 2000 | F10: 2013 | G10: =F10-E10 -> 13 | H10: =IF(E10="","",VLOOKUP(E10,Лист2!$G$2:$H$67,2,TRUE)) -> до16 | I10: 2830
A11: 5 | B11: 16 | C11: Гасанов Руслан | D11: Минск | E11: 2001 | F11: 2013 | G11: =F11-E11 -> 12 | H11: =IF(E11="","",VLOOKUP(E11,Лист2!$G$2:$H$67,2,TRUE)) -> до16 | I11: 2720
A12: 6 | B12: 647 | C12: Кологрив Александр | D12: Октябрьский | E12: 1999 | F12: 2013 | G12: =F12-E12 -> 14 | H12: =IF(E12="","",VLOOKUP(E12,Лист2!$G$2:$H$67,2,TRUE)) -> до16 | I12: 2450
A13: 7 | B13: 2 | C13: Дубовик Константин | D13: Минск | E13: 2002 | F13: 2013 | G13: =F13-E13 -> 11 | H13: =IF(E13="","",VLOOKUP(E13,Лист2!$G$2:$H$67,2,TRUE)) -> до16 | I13: 2400
D14: 16-17 лет | E14: (1996-1997 г.р.)
A15: 1 | B15: 221 | C15: Каленик Сергей | D15: Гродненский | E15: 1996 | F15: 2013 | G15: =F15-E15 -> 17 | H15: =IF(E15="","",VLOOKUP(E15,Лист2!$G$2:$H$67,2,TRUE)) -> 16-17 | I15: 3450
A16: 2 | B16: 127 | C16: Кемежук Николай | D16: Гродненский | E16: 1996 | F16: 2013 | G16: =F16-E16 -> 17 | H16: =IF(E16="","",VLOOKUP(E16,Лист2!$G$2:$H$67,2,TRUE)) -> 16-17 | I16: 3250
A17: 2 | B17: 644 | C17: Винчо Алексей | D17: Щучинский | E17: 1996 | F17: 2013 | G17: =F17-E17 -> 17 | H17: =IF(E17="","",VLOOKUP(E17,Лист2!$G$2:$H$67,2,TRUE)) -> 16-17 | I17: 3250
A18: 4 | B18: 648 | C18: Затейщиков Дмитрий | D18: Октябрьский | E18: 1997 | F18: 2013 | G18: =F18-E18 -> 16 | H18: =IF(E18="","",VLOOKUP(E18,Лист2!$G$2:$H$67,2,TRUE)) -> 16-17 | I18: 3000
A19: 5 | B19: 807 | C19: Сорока Дмитрий | D19: Мостовский | E19: 1997 | F19: 2013 | G19: =F19-E19 -> 16 | H19: =IF(E19="","",VLOOKUP(E19,Лист2!$G$2:$H$67,2,TRUE)) -> 16-17 | I19: 2730
A20: 6 | B20: 633 | C20: Андрейчик Кирилл | D20: Гродно | E20: 1997 | F20: 2013 | G20: =F20-E20 -> 16 | H20: =IF(E20="","",VLOOKUP(E20,Лист2!$G$2:$H$67,2,TRUE)) -> 16-17 | I20: 2500
A21: 7 | B21: 529 | C21: Борисевич Владислав | D21: Октябрьский | E21: 1997 | F21: 2013 | G21: =F21-E21 -> 16 | H21: =IF(E21="","",VLOOKUP(E21,Лист2!$G$2:$H$67,2,TRUE)) -> 16-17 | I21: 2450
D22: 18 лет и ст. | E22: (1995 г.р. и ст)
A23: 1 | B23: 15 | C23: Калачев Артем | D23: Зельвенский | E23: 1995 | F23: 2013 | G23: =F23-E23 -> 18 | H23: =IF(E23="","",VLOOKUP(E23,Лист2!$G$2:$H$67,2,TRUE)) -> 18ст | I23: 3510
A24: 2 | B24: 8 | C24: Лянга Александр | D24: Лида | E24: 1989 | F24: 2013 | G24: =F24-E24 -> 24 | H24: =IF(E24="","",VLOOKUP(E24,Лист2!$G$2:$H$67,2,TRUE)) -> 18ст | I24: 3430
A25: 3 | B25: 19 | C25: Рыбак Валерий | D25: Гродно | E25: 1994 | F25: 2013 | G25: =F25-E25 -> 19 | H25: =IF(E25="","",VLOOKUP(E25,Лист2!$G$2:$H$67,2,TRUE)) -> 18ст | I25: 3340
A26: 3 | B26: 289 | C26: Брайчук Артем | D26: Гродно | E26: 1994 | F26: 2013 | G26: =F26-E26 -> 19 | H26: =IF(E26="","",VLOOKUP(E26,Лист2!$G$2:$H$67,2,TRUE)) -> 18ст | I26: 3340
A27: 5 | B27: 146 | C27: Дмитриев Арсений | D27: Гродненский | E27: 1994 | F27: 2013 | G27: =F27-E27 -> 19 | H27: =IF(E27="","",VLOOKUP(E27,Лист2!$G$2:$H$67,2,TRUE)) -> 18ст | I27: 3305
A28: 6 | B28: 424 | C28: Пешко Александр | D28: Гродно | E28: 1994 | F28: 2013 | G28: =F28-E28 -> 19 | H28: =IF(E28="","",VLOOKUP(E28,Лист2!$G$2:$H$67,2,TRUE)) -> 18ст | I28: 3270
A29: 7 | B29: 20 | C29: Шумовский Владислав | D29: Гродно | E29: 1994 | F29: 2013 | G29: =F29-E29 -> 19 | H29: =IF(E29="","",VLOOKUP(E29,Лист2!$G$2:$H$67,2,TRUE)) -> 18ст | I29: 3215
A30: 8 | B30: 298 | C30: Кравцов Антон | D30: Гродно | E30: 1994 | F30: 2013 | G30: =F30-E30 -> 19 | H30: =IF(E30="","",VLOOKUP(E30,Лист2!$G$2:$H$67,2,TRUE)) -> 18ст | I30: 3080
A31: 9 | B31: 425 | C31: Дубко Вадим | D31: Гродно | E31: 1994 | F31: 2013 | G31: =F31-E31 -> 19 | H31: =IF(E31="","",VLOOKUP(E31,Лист2!$G$2:$H$67,2,TRUE)) -> 18ст | I31: 3000
A32: 10 | B32: 650 | C32: Куратов Артем | D32: Октябрьский | E32: 1994 | F32: 2013 | G32: =F32-E32 -> 19 | H32: =IF(E32="","",VLOOKUP(E32,Лист2!$G$2:$H$67,2,TRUE)) -> 18ст | I32: 2895
A33: 11 | B33: 423 | C33: Зеленко Денис | D33: Гродно | E33: 1994 | F33: 2013 | G33: =F33-E33 -> 19 | H33: =IF(E33="","",VLOOKUP(E33,Лист2!$G$2:$H$67,2,TRUE)) -> 18ст | I33: 2830
A34: 12 | B34: 229 | C34: Кутафин Алексей | D34: Гродно | E34: 1994 | F34: 2013 | G34: =F34-E34 -> 19 | H34: =IF(E34="","",VLOOKUP(E34,Лист2!$G$2:$H$67,2,TRUE)) -> 18ст | I34: 2810

Sheet Лист2
A1: МУЖЧИНЫ | D1: ЖЕНЩИНЫ | G1: тест Купера
A2: 1939 | B2: 70ст | D2: 1939 | E2: 50ст | G2: 1980 | H2: 18ст
A3: 1940 | B3: 70ст | D3: 1940 | E3: 50ст | G3: 1981 | H3: 18ст
A4: 1941 | B4: 70ст | D4: 1941 | E4: 50ст | G4: 1982 | H4: 18ст
A5: 1942 | B5: 70ст | D5: 1942 | E5: 50ст | G5: 1983 | H5: 18ст
A6: 1943 | B6: 70ст | D6: 1943 | E6: 50ст | G6: 1984 | H6: 18ст
A7: 1944 | B7: 60-69 | D7: 1944 | E7: 50ст | G7: 1985 | H7: 18ст
A8: 1945 | B8: 60-69 | D8: 1945 | E8: 50ст | G8: 1986 | H8: 18ст
A9: 1946 | B9: 60-69 | D9: 1946 | E9: 50ст | G9: 1987 | H9: 18ст
A10: 1947 | B10: 60-69 | D10: 1947 | E10: 50ст | G10: 1988 | H10: 18ст
A11: 1948 | B11: 60-69 | D11: 1948 | E11: 50ст | G11: 1989 | H11: 18ст
A12: 1949 | B12: 60-69 | D12: 1949 | E12: 50ст | G12: 1990 | H12: 18ст
A13: 1950 | B13: 60-69 | D13: 1950 | E13: 50ст | G13: 1991 | H13: 18ст
... A29: 1966 | B29: 40-49 | D29: 1966 | E29: 40-49 | G29: 2007 | H29: до16
A30: 1967 | B30: 40-49 | D30: 1967 | E30: 40-49
A31: 1968 | B31: 40-49 | D31: 1968 | E31: 40-49
A32: 1970 | B32: 40-49 | D32: 1970 | E32: 40-49
A33: 1971 | B33: 40-49 | D33: 1971 | E33: 40-49
A34: 1972 | B34: 40-49 | D34: 1972 | E34: 40-49
A35: 1973 | B35: 40-49 | D35: 1973 | E35: 40-49
A36: 1974 | B36: 18-39 | D36: 1974 | E36: 18-39
A37: 1975 | B37: 18-39 | D37: 1975 | E37: 18-39
A38: 1976 | B38: 18-39 | D38: 1976 | E38: 18-39
A39: 1977 | B39: 18-39 | D39: 1977 | E39: 18-39
A40: 1978 | B40: 18-39 | D40: 1978 | E40: 18-39
A41: 1979 | B41: 18-39 | D41: 1979 | E41: 18-39
... A67: 2005 | B67: до18 | D67: 2005 | E67: до18
